BEGIN:VCALENDAR
VERSION:2.0
PRODID:-//Gasthaus Riedl Schöner - ECPv6.15.12.2//NONSGML v1.0//EN
CALSCALE:GREGORIAN
METHOD:PUBLISH
X-ORIGINAL-URL:https://riedl-schoener.at
X-WR-CALDESC:Veranstaltungen für Gasthaus Riedl Schöner
REFRESH-INTERVAL;VALUE=DURATION:PT1H
X-Robots-Tag:noindex
X-PUBLISHED-TTL:PT1H
BEGIN:VTIMEZONE
TZID:Europe/Paris
BEGIN:DAYLIGHT
TZOFFSETFROM:+0100
TZOFFSETTO:+0200
TZNAME:CEST
DTSTART:20250330T010000
END:DAYLIGHT
BEGIN:STANDARD
TZOFFSETFROM:+0200
TZOFFSETTO:+0100
TZNAME:CET
DTSTART:20251026T010000
END:STANDARD
BEGIN:DAYLIGHT
TZOFFSETFROM:+0100
TZOFFSETTO:+0200
TZNAME:CEST
DTSTART:20260329T010000
END:DAYLIGHT
BEGIN:STANDARD
TZOFFSETFROM:+0200
TZOFFSETTO:+0100
TZNAME:CET
DTSTART:20261025T010000
END:STANDARD
BEGIN:DAYLIGHT
TZOFFSETFROM:+0100
TZOFFSETTO:+0200
TZNAME:CEST
DTSTART:20270328T010000
END:DAYLIGHT
BEGIN:STANDARD
TZOFFSETFROM:+0200
TZOFFSETTO:+0100
TZNAME:CET
DTSTART:20271031T010000
END:STANDARD
END:VTIMEZONE
BEGIN:VEVENT
DTSTART;TZID=Europe/Paris:20260109T190000
DTEND;TZID=Europe/Paris:20260109T233000
DTSTAMP:20260421T091909
CREATED:20211211T084725Z
LAST-MODIFIED:20260222T140858Z
UID:1943-1767985200-1768001400@riedl-schoener.at
SUMMARY:Candle & Wine im März 2026
DESCRIPTION:Freitag\, 9. Jänner\, 19.00 Uhr \nFischvariation\nShrimps | Forelle | Graved Lachs\n*****\nErdäpfel – Trüffelsuppe\nParmesan Chips\n*****\nSurf & Turf\nSeeteufel & Iberico | gegrillter Pak Choi | Erdäpfelgratin\n*****\nReis – Pudding\nFruchtspiegel\n*****\nMenü | Gedeck | Weinbegleitung  68\,00 \nJetzt reservieren \n 
URL:https://riedl-schoener.at/event/candle-wine-im-jaenner-2022/
CATEGORIES:Candle & Wine
ORGANIZER;CN="Gasthaus Riedl-Sch%C3%B6ner":MAILTO:gasthaus@riedl-schoener.at
END:VEVENT
BEGIN:VEVENT
DTSTART;TZID=Europe/Paris:20260123T190000
DTEND;TZID=Europe/Paris:20260123T190000
DTSTAMP:20260421T091909
CREATED:20260116T085047Z
LAST-MODIFIED:20260116T095423Z
UID:1945-1769194800-1769194800@riedl-schoener.at
SUMMARY:SCHÖNER Freitag Vol.1 Inventurparty
DESCRIPTION:Fr\, 23. Jänner 2026 ab 19:00\nInventurparty | Gratis Get Together Drink | Stehpartie | Spritzerbar |\nBacardi & Co | 80er & 2000er Hits | 8 Wine Specials – um 20€ | … \nEine Idee um jung und alt zu motivieren sich gemeinsam wieder im Gasthaus zu treffen.\nSkip to PDF content
URL:https://riedl-schoener.at/event/schoener-freitag-vol1-inventurparty/
CATEGORIES:Genussveranstaltung
ORGANIZER;CN="Gasthaus Riedl-Sch%C3%B6ner":MAILTO:gasthaus@riedl-schoener.at
END:VEVENT
BEGIN:VEVENT
DTSTART;VALUE=DATE:20260127
DTEND;VALUE=DATE:20260207
DTSTAMP:20260421T091909
CREATED:20210105T092704Z
LAST-MODIFIED:20251107T154858Z
UID:1566-1769472000-1770422399@riedl-schoener.at
SUMMARY:Wir haben Betriebsurlaub
DESCRIPTION:Am Samstag den 7. Februar 2026 sind wir wieder für euch da.
URL:https://riedl-schoener.at/event/wir-haben-betriebsurlaub/
ORGANIZER;CN="Gasthaus Riedl-Sch%C3%B6ner":MAILTO:gasthaus@riedl-schoener.at
END:VEVENT
END:VCALENDAR