BEGIN:VCALENDAR
VERSION:2.0
PRODID:-//Gasthaus Riedl Schöner - ECPv6.15.12.2//NONSGML v1.0//EN
CALSCALE:GREGORIAN
METHOD:PUBLISH
X-ORIGINAL-URL:https://riedl-schoener.at
X-WR-CALDESC:Veranstaltungen für Gasthaus Riedl Schöner
REFRESH-INTERVAL;VALUE=DURATION:PT1H
X-Robots-Tag:noindex
X-PUBLISHED-TTL:PT1H
BEGIN:VTIMEZONE
TZID:Europe/Paris
BEGIN:DAYLIGHT
TZOFFSETFROM:+0100
TZOFFSETTO:+0200
TZNAME:CEST
DTSTART:20240331T010000
END:DAYLIGHT
BEGIN:STANDARD
TZOFFSETFROM:+0200
TZOFFSETTO:+0100
TZNAME:CET
DTSTART:20241027T010000
END:STANDARD
BEGIN:DAYLIGHT
TZOFFSETFROM:+0100
TZOFFSETTO:+0200
TZNAME:CEST
DTSTART:20250330T010000
END:DAYLIGHT
BEGIN:STANDARD
TZOFFSETFROM:+0200
TZOFFSETTO:+0100
TZNAME:CET
DTSTART:20251026T010000
END:STANDARD
BEGIN:DAYLIGHT
TZOFFSETFROM:+0100
TZOFFSETTO:+0200
TZNAME:CEST
DTSTART:20260329T010000
END:DAYLIGHT
BEGIN:STANDARD
TZOFFSETFROM:+0200
TZOFFSETTO:+0100
TZNAME:CET
DTSTART:20261025T010000
END:STANDARD
END:VTIMEZONE
BEGIN:VEVENT
DTSTART;TZID=Europe/Paris:20251114T190000
DTEND;TZID=Europe/Paris:20251114T230000
DTSTAMP:20260423T121448
CREATED:20211212T100724Z
LAST-MODIFIED:20251105T144523Z
UID:1986-1763146800-1763161200@riedl-schoener.at
SUMMARY:Candle & Wine im November 2025 II
DESCRIPTION: Freitag 14. November\, 19.00 Uhr   „ausreserviert“ \n4-gängiges Menü inklusive Gedeck und Weinbegleitung    € 65\,00 \njetzt reservieren \n„Birnen-Camembert-Strudel & karamelisierter Ziegenkäse“\n*****\n„Geröstete Knoblauchsuppe & Blue Chips“\n*****\n„2erlei vom Hirschkalb“\nGeschmort & zart rosa gegrillt / Wurzelrahmsauce /\nMaroni-Serviettenknödel / Kohlsprossen / Apfel-Rotkraut\n*****\n„Cheesecake“\nSalted Caramel / glacierte Zwetschken\n*****
URL:https://riedl-schoener.at/event/candle-wine-im-november-2022/
CATEGORIES:Candle & Wine
END:VEVENT
END:VCALENDAR