BEGIN:VCALENDAR
VERSION:2.0
PRODID:-//Gasthaus Riedl Schöner - ECPv6.15.12.2//NONSGML v1.0//EN
CALSCALE:GREGORIAN
METHOD:PUBLISH
X-ORIGINAL-URL:https://riedl-schoener.at
X-WR-CALDESC:Veranstaltungen für Gasthaus Riedl Schöner
REFRESH-INTERVAL;VALUE=DURATION:PT1H
X-Robots-Tag:noindex
X-PUBLISHED-TTL:PT1H
BEGIN:VTIMEZONE
TZID:Europe/Paris
BEGIN:DAYLIGHT
TZOFFSETFROM:+0100
TZOFFSETTO:+0200
TZNAME:CEST
DTSTART:20230326T010000
END:DAYLIGHT
BEGIN:STANDARD
TZOFFSETFROM:+0200
TZOFFSETTO:+0100
TZNAME:CET
DTSTART:20231029T010000
END:STANDARD
BEGIN:DAYLIGHT
TZOFFSETFROM:+0100
TZOFFSETTO:+0200
TZNAME:CEST
DTSTART:20240331T010000
END:DAYLIGHT
BEGIN:STANDARD
TZOFFSETFROM:+0200
TZOFFSETTO:+0100
TZNAME:CET
DTSTART:20241027T010000
END:STANDARD
BEGIN:DAYLIGHT
TZOFFSETFROM:+0100
TZOFFSETTO:+0200
TZNAME:CEST
DTSTART:20250330T010000
END:DAYLIGHT
BEGIN:STANDARD
TZOFFSETFROM:+0200
TZOFFSETTO:+0100
TZNAME:CET
DTSTART:20251026T010000
END:STANDARD
END:VTIMEZONE
BEGIN:VEVENT
DTSTART;TZID=Europe/Paris:20240308T190000
DTEND;TZID=Europe/Paris:20240308T220000
DTSTAMP:20260424T151929
CREATED:20230923T141415Z
LAST-MODIFIED:20240202T105843Z
UID:2363-1709924400-1709935200@riedl-schoener.at
SUMMARY:Candle & Wine Vegan im März 2024
DESCRIPTION:Freitag\, 8. März\, 19.00 Uhr \n4-gängiges Menü inklusive Gedeck und Weinbegleitung     € 62\,00 \njetzt reservieren \n„Falafel“ – Blattspinat / Tomate“\n*****\n„Erbsen-Wasabi – Schaumsuppe“\n*****\n„Grammelknödel“\nwarmer Krautsalat / Rucola / Rettich\n*****\n„Apfel – Zimt – Tiramisu“\nhausgemachtes Vanille Eis\n*****
URL:https://riedl-schoener.at/event/candle-wine-vegan-im-oktober-2023/
END:VEVENT
END:VCALENDAR