BEGIN:VCALENDAR
VERSION:2.0
PRODID:-//Gasthaus Riedl Schöner - ECPv6.15.12.2//NONSGML v1.0//EN
CALSCALE:GREGORIAN
METHOD:PUBLISH
X-WR-CALNAME:Gasthaus Riedl Schöner
X-ORIGINAL-URL:https://riedl-schoener.at
X-WR-CALDESC:Veranstaltungen für Gasthaus Riedl Schöner
REFRESH-INTERVAL;VALUE=DURATION:PT1H
X-Robots-Tag:noindex
X-PUBLISHED-TTL:PT1H
BEGIN:VTIMEZONE
TZID:Europe/Paris
BEGIN:DAYLIGHT
TZOFFSETFROM:+0100
TZOFFSETTO:+0200
TZNAME:CEST
DTSTART:20250330T010000
END:DAYLIGHT
BEGIN:STANDARD
TZOFFSETFROM:+0200
TZOFFSETTO:+0100
TZNAME:CET
DTSTART:20251026T010000
END:STANDARD
BEGIN:DAYLIGHT
TZOFFSETFROM:+0100
TZOFFSETTO:+0200
TZNAME:CEST
DTSTART:20260329T010000
END:DAYLIGHT
BEGIN:STANDARD
TZOFFSETFROM:+0200
TZOFFSETTO:+0100
TZNAME:CET
DTSTART:20261025T010000
END:STANDARD
BEGIN:DAYLIGHT
TZOFFSETFROM:+0100
TZOFFSETTO:+0200
TZNAME:CEST
DTSTART:20270328T010000
END:DAYLIGHT
BEGIN:STANDARD
TZOFFSETFROM:+0200
TZOFFSETTO:+0100
TZNAME:CET
DTSTART:20271031T010000
END:STANDARD
END:VTIMEZONE
BEGIN:VEVENT
DTSTART;TZID=Europe/Paris:20260508T190000
DTEND;TZID=Europe/Paris:20260508T233000
DTSTAMP:20260421T044010
CREATED:20210105T083746Z
LAST-MODIFIED:20260404T120501Z
UID:1549-1778266800-1778283000@riedl-schoener.at
SUMMARY:Candle & Wine Deluxe im Mai 2026
DESCRIPTION:Freitag\, 8. Mai\, 19 Uhr \n2erlei vom Schafkäse\nBlattsalat | Kürbiskernöl\n*****\nWeiße Spargelcremesuppe\nBlätterteig\n*****\nForellenfilet\nMandelrisotto | Balsamico Sauce | Sprossen\n*****\nMai Thai Sorbet\n*****\nRinderhüfte geschmort\nThymiansauce | Spargel & Speck | Cremige Polenta\n*****\nErdbeer & Rhabarber Tarte\n*****\nKäse Trilogie  \n4-gängiges Menü inklusive Gedeck und Weinbegleitung    € 68\,00\noder 7 gängiges Menü mit Weinbegleitung € 88\,00\n \n  \njetzt reservieren \n 
URL:https://riedl-schoener.at/event/candle-wine-im-mai-2021/
CATEGORIES:Candle & Wine
ORGANIZER;CN="Gasthaus Riedl-Sch%C3%B6ner":MAILTO:gasthaus@riedl-schoener.at
END:VEVENT
BEGIN:VEVENT
DTSTART;TZID=Europe/Paris:20260613T190000
DTEND;TZID=Europe/Paris:20260613T233000
DTSTAMP:20260421T044010
CREATED:20210105T085643Z
LAST-MODIFIED:20251204T174731Z
UID:1554-1781377200-1781393400@riedl-schoener.at
SUMMARY:Candle & Wine zum Vatertag
DESCRIPTION:Samstag\, Vatertag\, 13. Juni\, 19 Uhr \n4-gängiges Menü inklusive Gedeck und Weinbegleitung    € 68\,00 \n  \n jetzt reservieren
URL:https://riedl-schoener.at/event/candle-wine-im-juni-2021/
CATEGORIES:Candle & Wine
ORGANIZER;CN="Gasthaus Riedl-Sch%C3%B6ner":MAILTO:gasthaus@riedl-schoener.at
END:VEVENT
BEGIN:VEVENT
DTSTART;TZID=Europe/Paris:20260626T190000
DTEND;TZID=Europe/Paris:20260626T230000
DTSTAMP:20260421T044010
CREATED:20210105T091128Z
LAST-MODIFIED:20251204T175610Z
UID:1560-1782500400-1782514800@riedl-schoener.at
SUMMARY:Winzerbuffet 2026
DESCRIPTION:Buffet im Hof.Garten \nWeine vom Winzer \nKäsebrett vom Käsesommelier \nPro Person 70 €
URL:https://riedl-schoener.at/event/winzerbuffet-2021/
CATEGORIES:Genussveranstaltung
ORGANIZER;CN="Gasthaus Riedl-Sch%C3%B6ner":MAILTO:gasthaus@riedl-schoener.at
END:VEVENT
BEGIN:VEVENT
DTSTART;TZID=Europe/Paris:20260710T190000
DTEND;TZID=Europe/Paris:20260710T233000
DTSTAMP:20260421T044010
CREATED:20231031T062454Z
LAST-MODIFIED:20251204T180330Z
UID:2381-1783710000-1783726200@riedl-schoener.at
SUMMARY:Kuba\, Rum & Musik
DESCRIPTION:Am 10. Juli 2025 erwartet uns ein Event der Extraklasse im Hof.Garten.\nKaribischer Rum\, Kulinarisches\, Zigarren und natürlich Live Musik aus Kuba.\n\nEintritt inkl. Begrüßung Drink   € 25\,00 \n 
URL:https://riedl-schoener.at/event/wildbret/
END:VEVENT
BEGIN:VEVENT
DTSTART;TZID=Europe/Paris:20260716T190000
DTEND;TZID=Europe/Paris:20260716T230000
DTSTAMP:20260421T044010
CREATED:20210105T091705Z
LAST-MODIFIED:20251204T180523Z
UID:1562-1784228400-1784242800@riedl-schoener.at
SUMMARY:Sommerkino
DESCRIPTION:Sommerkino im Hof.Garten  \n19.00h Aperitif \n19.30h Kulinarisches vom Buffet \n20.30h Filmstart \n€ 35\,00 pro Person (Aperitif\, Film\, Buffet) \nWir bitten um Reservierung!
URL:https://riedl-schoener.at/event/public-viewing-euro-2021/
CATEGORIES:Hof.Garten Zeit
END:VEVENT
BEGIN:VEVENT
DTSTART;TZID=Europe/Paris:20260723T190000
DTEND;TZID=Europe/Paris:20260723T230000
DTSTAMP:20260421T044010
CREATED:20210105T085433Z
LAST-MODIFIED:20251204T180615Z
UID:1552-1784833200-1784847600@riedl-schoener.at
SUMMARY:Sommerkino
DESCRIPTION:Sommerkino im Hof.Garten \n19.00h Aperitif \n19.30h Kulinarisches vom Buffet \n20.30h Filmstart \n€ 35\,00 pro Person (Aperitif\, Film\, Buffet) \nWir bitten um Reservierung!
URL:https://riedl-schoener.at/event/muttertagessen/
CATEGORIES:Hof.Garten Zeit
ORGANIZER;CN="Gasthaus Riedl-Sch%C3%B6ner":MAILTO:gasthaus@riedl-schoener.at
END:VEVENT
BEGIN:VEVENT
DTSTART;TZID=Europe/Paris:20260724T170000
DTEND;TZID=Europe/Paris:20260725T200000
DTSTAMP:20260421T044010
CREATED:20210105T092243Z
LAST-MODIFIED:20251204T180727Z
UID:1564-1784912400-1785009600@riedl-schoener.at
SUMMARY:Hof.Garten.Zeit & Steckerlfisch
DESCRIPTION:Steckerlfisch\, Ripperl\, Regionale Schmankerl\, Mediterran\, Wein \, Süßes\,…
URL:https://riedl-schoener.at/event/hof-garten-zeit-steckerlfisch/
CATEGORIES:Hof.Garten Zeit
ORGANIZER;CN="Gasthaus Riedl-Sch%C3%B6ner":MAILTO:gasthaus@riedl-schoener.at
END:VEVENT
BEGIN:VEVENT
DTSTART;VALUE=DATE:20260727
DTEND;VALUE=DATE:20260814
DTSTAMP:20260421T044010
CREATED:20211211T101917Z
LAST-MODIFIED:20251204T180928Z
UID:1778-1785110400-1786665599@riedl-schoener.at
SUMMARY:Betriebsurlaub
DESCRIPTION:Wir haben Urlaub vom 27. Juli bis 13. August 2025 \nAb Freitag 14. August sind wir wieder für Sie da! \n 
URL:https://riedl-schoener.at/event/betriebsurlaub/
END:VEVENT
BEGIN:VEVENT
DTSTART;TZID=Europe/Paris:20260828T000000
DTEND;TZID=Europe/Paris:20260829T233000
DTSTAMP:20260421T044010
CREATED:20240117T103411Z
LAST-MODIFIED:20251204T180814Z
UID:2432-1787875200-1788046200@riedl-schoener.at
SUMMARY:Hof.Garten.Zeit & Steckerlfisch II
DESCRIPTION:Steckerlfisch\, Ripperl\, Regionale Schmankerl\, Mediterran\, Wein \, Süßes\,… \njeweils ab 17.00h
URL:https://riedl-schoener.at/event/hof-garten-zeit-steckerlfisch-2/
END:VEVENT
BEGIN:VEVENT
DTSTART;TZID=Europe/Paris:20260904T190000
DTEND;TZID=Europe/Paris:20260904T230000
DTSTAMP:20260421T044010
CREATED:20210105T093248Z
LAST-MODIFIED:20251204T181032Z
UID:1569-1788548400-1788562800@riedl-schoener.at
SUMMARY:Candle & Wine im September 2026
DESCRIPTION:4-gängiges Menü inklusive Gedeck und Weinbegleitung    € 68\,00 \n jetzt reservieren \n 
URL:https://riedl-schoener.at/event/candle-wine-im-september-2021/
CATEGORIES:Candle & Wine
ORGANIZER;CN="Gasthaus Riedl-Sch%C3%B6ner":MAILTO:gasthaus@riedl-schoener.at
END:VEVENT
BEGIN:VEVENT
DTSTART;TZID=Europe/Paris:20261002T190000
DTEND;TZID=Europe/Paris:20261002T230000
DTSTAMP:20260421T044010
CREATED:20210105T093629Z
LAST-MODIFIED:20260123T075914Z
UID:1572-1790967600-1790982000@riedl-schoener.at
SUMMARY:Candle & Wine im Oktober 2026
DESCRIPTION:Freitag\, 2. Oktober\, 19.00 Uhr\n \n4-gängiges Menü inklusive Gedeck und Weinbegleitung    € 68\,00 \njetzt reservieren \n 
URL:https://riedl-schoener.at/event/candle-wine-im-oktober-2021/
CATEGORIES:Candle & Wine
ORGANIZER;CN="Gasthaus Riedl-Sch%C3%B6ner":MAILTO:gasthaus@riedl-schoener.at
END:VEVENT
BEGIN:VEVENT
DTSTART;TZID=Europe/Paris:20261031T000000
DTEND;TZID=Europe/Paris:20261122T000000
DTSTAMP:20260421T044010
CREATED:20210105T094207Z
LAST-MODIFIED:20251204T184617Z
UID:1575-1793404800-1795305600@riedl-schoener.at
SUMMARY:Wildbrettage 2026
DESCRIPTION:Heimisches Wild von Reh\, Hirsch\, Wildschwein\,…\ndazu servieren wir Top Weine und süße Desserts.
URL:https://riedl-schoener.at/event/wildbrettage-2021/
CATEGORIES:Genussveranstaltung
ORGANIZER;CN="Gasthaus Riedl-Sch%C3%B6ner":MAILTO:gasthaus@riedl-schoener.at
END:VEVENT
BEGIN:VEVENT
DTSTART;TZID=Europe/Paris:20261106T190000
DTEND;TZID=Europe/Paris:20261106T233000
DTSTAMP:20260421T044010
CREATED:20210105T095537Z
LAST-MODIFIED:20251204T184720Z
UID:1577-1793991600-1794007800@riedl-schoener.at
SUMMARY:Candle & Wine im November 2026
DESCRIPTION:Freitag\, 6. November\, 19.00 Uhr  \n4-gängiges Menü inklusive Gedeck und Weinbegleitung    € 68\,00 \njetzt reservieren \n 
URL:https://riedl-schoener.at/event/candle-wine-im-november-2021/
CATEGORIES:Candle & Wine
ORGANIZER;CN="Gasthaus Riedl-Sch%C3%B6ner":MAILTO:gasthaus@riedl-schoener.at
END:VEVENT
END:VCALENDAR