BEGIN:VCALENDAR
VERSION:2.0
PRODID:-//Gasthaus Riedl Schöner - ECPv6.15.12.2//NONSGML v1.0//EN
CALSCALE:GREGORIAN
METHOD:PUBLISH
X-ORIGINAL-URL:https://riedl-schoener.at
X-WR-CALDESC:Veranstaltungen für Gasthaus Riedl Schöner
REFRESH-INTERVAL;VALUE=DURATION:PT1H
X-Robots-Tag:noindex
X-PUBLISHED-TTL:PT1H
BEGIN:VTIMEZONE
TZID:Europe/Paris
BEGIN:DAYLIGHT
TZOFFSETFROM:+0100
TZOFFSETTO:+0200
TZNAME:CEST
DTSTART:20250330T010000
END:DAYLIGHT
BEGIN:STANDARD
TZOFFSETFROM:+0200
TZOFFSETTO:+0100
TZNAME:CET
DTSTART:20251026T010000
END:STANDARD
BEGIN:DAYLIGHT
TZOFFSETFROM:+0100
TZOFFSETTO:+0200
TZNAME:CEST
DTSTART:20260329T010000
END:DAYLIGHT
BEGIN:STANDARD
TZOFFSETFROM:+0200
TZOFFSETTO:+0100
TZNAME:CET
DTSTART:20261025T010000
END:STANDARD
BEGIN:DAYLIGHT
TZOFFSETFROM:+0100
TZOFFSETTO:+0200
TZNAME:CEST
DTSTART:20270328T010000
END:DAYLIGHT
BEGIN:STANDARD
TZOFFSETFROM:+0200
TZOFFSETTO:+0100
TZNAME:CET
DTSTART:20271031T010000
END:STANDARD
END:VTIMEZONE
BEGIN:VEVENT
DTSTART;TZID=Europe/Paris:20260410T190000
DTEND;TZID=Europe/Paris:20260410T230000
DTSTAMP:20260421T073734
CREATED:20210105T081535Z
LAST-MODIFIED:20260222T141435Z
UID:1546-1775847600-1775862000@riedl-schoener.at
SUMMARY:Candle & Wine im April 2026
DESCRIPTION:Freitag 10. April\, 19:00 Uhr \nKohlrabi & Frischkäse\nButtermilch | Trüffelöl | Radieschen\n*****\nBärlauchcremesuppe\nKäse – Blätterteig\n*****\n2erlei vom Lamm\nGeschmorter Schlegel & gegrillte Lammkrone | Thymian – Rotweinglace |\nGemüsesticks im Speckmantel | knusprige Polenta\n*****\nSorbet & Parfait\nGin Tonic Sorbet | Himbeerparfait | Schoko Biskuit  \n4-gängiges Menü inklusive Gedeck und Weinbegleitung    € 68\,00 \njetzt reservieren \n 
URL:https://riedl-schoener.at/event/candle-wine-im-april-2021/
CATEGORIES:Candle & Wine
ORGANIZER;CN="Gasthaus Riedl-Sch%C3%B6ner":MAILTO:gasthaus@riedl-schoener.at
END:VEVENT
END:VCALENDAR