BEGIN:VCALENDAR
VERSION:2.0
PRODID:-//Gasthaus Riedl Schöner - ECPv6.15.12.2//NONSGML v1.0//EN
CALSCALE:GREGORIAN
METHOD:PUBLISH
X-ORIGINAL-URL:https://riedl-schoener.at
X-WR-CALDESC:Veranstaltungen für Gasthaus Riedl Schöner
REFRESH-INTERVAL;VALUE=DURATION:PT1H
X-Robots-Tag:noindex
X-PUBLISHED-TTL:PT1H
BEGIN:VTIMEZONE
TZID:Europe/Paris
BEGIN:DAYLIGHT
TZOFFSETFROM:+0100
TZOFFSETTO:+0200
TZNAME:CEST
DTSTART:20250330T010000
END:DAYLIGHT
BEGIN:STANDARD
TZOFFSETFROM:+0200
TZOFFSETTO:+0100
TZNAME:CET
DTSTART:20251026T010000
END:STANDARD
BEGIN:DAYLIGHT
TZOFFSETFROM:+0100
TZOFFSETTO:+0200
TZNAME:CEST
DTSTART:20260329T010000
END:DAYLIGHT
BEGIN:STANDARD
TZOFFSETFROM:+0200
TZOFFSETTO:+0100
TZNAME:CET
DTSTART:20261025T010000
END:STANDARD
BEGIN:DAYLIGHT
TZOFFSETFROM:+0100
TZOFFSETTO:+0200
TZNAME:CEST
DTSTART:20270328T010000
END:DAYLIGHT
BEGIN:STANDARD
TZOFFSETFROM:+0200
TZOFFSETTO:+0100
TZNAME:CET
DTSTART:20271031T010000
END:STANDARD
END:VTIMEZONE
BEGIN:VEVENT
DTSTART;TZID=Europe/Paris:20260222T113000
DTEND;TZID=Europe/Paris:20260222T140000
DTSTAMP:20260421T091809
CREATED:20230302T180642Z
LAST-MODIFIED:20251204T181233Z
UID:2313-1771759800-1771768800@riedl-schoener.at
SUMMARY:Fisch Buffet
DESCRIPTION:Fischspezialitäten aus aller Welt \nBeilagenvariationen\, Salatbuffet\,…. \n€ 40\,00/Person
URL:https://riedl-schoener.at/event/flying-buffet/
ORGANIZER;CN="Gasthaus Riedl-Sch%C3%B6ner":MAILTO:gasthaus@riedl-schoener.at
END:VEVENT
END:VCALENDAR