BEGIN:VCALENDAR
VERSION:2.0
PRODID:-//Gasthaus Riedl Schöner - ECPv6.15.12.2//NONSGML v1.0//EN
CALSCALE:GREGORIAN
METHOD:PUBLISH
X-ORIGINAL-URL:https://riedl-schoener.at
X-WR-CALDESC:Veranstaltungen für Gasthaus Riedl Schöner
REFRESH-INTERVAL;VALUE=DURATION:PT1H
X-Robots-Tag:noindex
X-PUBLISHED-TTL:PT1H
BEGIN:VTIMEZONE
TZID:Europe/Paris
BEGIN:DAYLIGHT
TZOFFSETFROM:+0100
TZOFFSETTO:+0200
TZNAME:CEST
DTSTART:20250330T010000
END:DAYLIGHT
BEGIN:STANDARD
TZOFFSETFROM:+0200
TZOFFSETTO:+0100
TZNAME:CET
DTSTART:20251026T010000
END:STANDARD
BEGIN:DAYLIGHT
TZOFFSETFROM:+0100
TZOFFSETTO:+0200
TZNAME:CEST
DTSTART:20260329T010000
END:DAYLIGHT
BEGIN:STANDARD
TZOFFSETFROM:+0200
TZOFFSETTO:+0100
TZNAME:CET
DTSTART:20261025T010000
END:STANDARD
BEGIN:DAYLIGHT
TZOFFSETFROM:+0100
TZOFFSETTO:+0200
TZNAME:CEST
DTSTART:20270328T010000
END:DAYLIGHT
BEGIN:STANDARD
TZOFFSETFROM:+0200
TZOFFSETTO:+0100
TZNAME:CET
DTSTART:20271031T010000
END:STANDARD
END:VTIMEZONE
BEGIN:VEVENT
DTSTART;TZID=Europe/Paris:20260214T200000
DTEND;TZID=Europe/Paris:20260214T233000
DTSTAMP:20260421T091743
CREATED:20230120T084754Z
LAST-MODIFIED:20251107T155213Z
UID:2277-1771099200-1771111800@riedl-schoener.at
SUMMARY:Faschings-Gschnas
DESCRIPTION:Gschnas des USC Mank\nLive Musik mit JAZZ vom FASS\,\nDJ\, USC Gifthütte\, Bar\, Maskenprämierung\,…
URL:https://riedl-schoener.at/event/faschings-gschnas/
LOCATION:Faschings-Gschnas
END:VEVENT
END:VCALENDAR