BEGIN:VCALENDAR
VERSION:2.0
PRODID:-//Gasthaus Riedl Schöner - ECPv6.15.12.2//NONSGML v1.0//EN
CALSCALE:GREGORIAN
METHOD:PUBLISH
X-WR-CALNAME:Gasthaus Riedl Schöner
X-ORIGINAL-URL:https://riedl-schoener.at
X-WR-CALDESC:Veranstaltungen für Gasthaus Riedl Schöner
REFRESH-INTERVAL;VALUE=DURATION:PT1H
X-Robots-Tag:noindex
X-PUBLISHED-TTL:PT1H
BEGIN:VTIMEZONE
TZID:Europe/Paris
BEGIN:DAYLIGHT
TZOFFSETFROM:+0100
TZOFFSETTO:+0200
TZNAME:CEST
DTSTART:20250330T010000
END:DAYLIGHT
BEGIN:STANDARD
TZOFFSETFROM:+0200
TZOFFSETTO:+0100
TZNAME:CET
DTSTART:20251026T010000
END:STANDARD
BEGIN:DAYLIGHT
TZOFFSETFROM:+0100
TZOFFSETTO:+0200
TZNAME:CEST
DTSTART:20260329T010000
END:DAYLIGHT
BEGIN:STANDARD
TZOFFSETFROM:+0200
TZOFFSETTO:+0100
TZNAME:CET
DTSTART:20261025T010000
END:STANDARD
BEGIN:DAYLIGHT
TZOFFSETFROM:+0100
TZOFFSETTO:+0200
TZNAME:CEST
DTSTART:20270328T010000
END:DAYLIGHT
BEGIN:STANDARD
TZOFFSETFROM:+0200
TZOFFSETTO:+0100
TZNAME:CET
DTSTART:20271031T010000
END:STANDARD
END:VTIMEZONE
BEGIN:VEVENT
DTSTART;VALUE=DATE:20260127
DTEND;VALUE=DATE:20260207
DTSTAMP:20260421T091629
CREATED:20210105T092704Z
LAST-MODIFIED:20251107T154858Z
UID:1566-1769472000-1770422399@riedl-schoener.at
SUMMARY:Wir haben Betriebsurlaub
DESCRIPTION:Am Samstag den 7. Februar 2026 sind wir wieder für euch da.
URL:https://riedl-schoener.at/event/wir-haben-betriebsurlaub/
ORGANIZER;CN="Gasthaus Riedl-Sch%C3%B6ner":MAILTO:gasthaus@riedl-schoener.at
END:VEVENT
END:VCALENDAR