BEGIN:VCALENDAR
VERSION:2.0
PRODID:-//Gasthaus Riedl Schöner - ECPv6.15.12.2//NONSGML v1.0//EN
CALSCALE:GREGORIAN
METHOD:PUBLISH
X-WR-CALNAME:Gasthaus Riedl Schöner
X-ORIGINAL-URL:https://riedl-schoener.at
X-WR-CALDESC:Veranstaltungen für Gasthaus Riedl Schöner
REFRESH-INTERVAL;VALUE=DURATION:PT1H
X-Robots-Tag:noindex
X-PUBLISHED-TTL:PT1H
BEGIN:VTIMEZONE
TZID:Europe/Paris
BEGIN:DAYLIGHT
TZOFFSETFROM:+0100
TZOFFSETTO:+0200
TZNAME:CEST
DTSTART:20220327T010000
END:DAYLIGHT
BEGIN:STANDARD
TZOFFSETFROM:+0200
TZOFFSETTO:+0100
TZNAME:CET
DTSTART:20221030T010000
END:STANDARD
BEGIN:DAYLIGHT
TZOFFSETFROM:+0100
TZOFFSETTO:+0200
TZNAME:CEST
DTSTART:20230326T010000
END:DAYLIGHT
BEGIN:STANDARD
TZOFFSETFROM:+0200
TZOFFSETTO:+0100
TZNAME:CET
DTSTART:20231029T010000
END:STANDARD
BEGIN:DAYLIGHT
TZOFFSETFROM:+0100
TZOFFSETTO:+0200
TZNAME:CEST
DTSTART:20240331T010000
END:DAYLIGHT
BEGIN:STANDARD
TZOFFSETFROM:+0200
TZOFFSETTO:+0100
TZNAME:CET
DTSTART:20241027T010000
END:STANDARD
END:VTIMEZONE
BEGIN:VEVENT
DTSTART;TZID=Europe/Paris:20230317T190000
DTEND;TZID=Europe/Paris:20230317T230000
DTSTAMP:20260425T061904
CREATED:20210105T100245Z
LAST-MODIFIED:20230112T123641Z
UID:1584-1679079600-1679094000@riedl-schoener.at
SUMMARY:Candle & Wine Vegan
DESCRIPTION:Freitag\, 17. März\, 19.00 Uhr\,  \n4-gängiges Veganes Menü inklusive Gedeck und Weinbegleitung    € 62\,00 \nzum Menü
URL:https://riedl-schoener.at/event/candle-and-wine-im-dezember-2021/
CATEGORIES:Candle & Wine
ORGANIZER;CN="Gasthaus Riedl-Sch%C3%B6ner":MAILTO:gasthaus@riedl-schoener.at
END:VEVENT
END:VCALENDAR